BEGIN:VCALENDAR
VERSION:2.0
PRODID:-//wp-events-plugin.com//7.2.3.1//EN
TZID:Europe/Stockholm
X-WR-TIMEZONE:Europe/Stockholm
BEGIN:VEVENT
UID:0-44@krets.jagareforbundet.se
DTSTART;TZID=Europe/Stockholm:20250605T170000
DTEND;TZID=Europe/Stockholm:20250605T200000
DTSTAMP:20250527T110545Z
URL:https://krets.jagareforbundet.se/lundabygdensjvk/events/algskytte-pa-s
 ovdeborgs-jaktskyttebana-2/
SUMMARY:Älgskytte på Sövdeborgs Jaktskyttebana
DESCRIPTION:Den 5 juni kl. 17:00 – 20:00 har Lundabygdens jaktvårdskrets
  bokat in sig på älgbanan på Sövdeborgs jaktskyttebana. Ett gyllene ti
 llfälle att ta märken och öva inför stundande jaktsäsong. Evenemanget
  är öppet för kretsens medlemmar.\n\nAnmälan sker endast via länken n
 edan:\n\nhttps://forms.gle/H8inttkkGDCCPG2f6\n\nVi ses den 5/6\,\n\nVarmt 
 välkomna!\n\n&nbsp\;
CATEGORIES:Jaktskytte
LOCATION:Sövdeborgs Jaktskyttebana\, Snogeholmsvägen 1232-68\, Sjöbo\, S
 kåne\, 275 93\, Sverige
X-APPLE-STRUCTURED-LOCATION;VALUE=URI;X-ADDRESS=Snogeholmsvägen 1232-68\, 
 Sjöbo\, Skåne\, 275 93\, Sverige;X-APPLE-RADIUS=100;X-TITLE=Sövdeborgs 
 Jaktskyttebana:geo:0,0
END:VEVENT
BEGIN:VTIMEZONE
TZID:Europe/Stockholm
X-LIC-LOCATION:Europe/Stockholm
BEGIN:DAYLIGHT
DTSTART:20250330T030000
TZOFFSETFROM:+0100
TZOFFSETTO:+0200
TZNAME:CEST
END:DAYLIGHT
END:VTIMEZONE
END:VCALENDAR