BEGIN:VCALENDAR
VERSION:2.0
PRODID:-//wp-events-plugin.com//7.2.3.1//EN
TZID:Europe/Stockholm
X-WR-TIMEZONE:Europe/Stockholm
BEGIN:VEVENT
UID:0-43@krets.jagareforbundet.se
DTSTART;TZID=Europe/Stockholm:20250522T170000
DTEND;TZID=Europe/Stockholm:20250522T200000
DTSTAMP:20250506T112600Z
URL:https://krets.jagareforbundet.se/lundabygdensjvk/events/algskytte-pa-s
 ovdeborgs-jaktskyttebana/
SUMMARY:Älgskytte på Sövdeborgs jaktskyttebana
DESCRIPTION:Den 22 maj kl. 17:00 - 20:00 har Lundabygdens jaktvårdskrets b
 okat ena båset på älgbanan på Sövdeborgs jaktskyttebana. Ett gyllene 
 tillfälle att ta märken och öva inför stundande jaktsäsong. Evenemang
 et är öppet för kretsens medlemmar. Anmälan sker endast via länken ne
 dan:\n\nhttps://forms.gle/XWJNvEf6YtvDRaUa6\n\n&nbsp\;\n\nVi ses den 22/5\
 ,\n\nVarmt Välkomna!
CATEGORIES:Jaktskytte
LOCATION:Sövdeborgs Jaktskyttebana\, Snogeholmsvägen 1232-68\, Sjöbo\, S
 kåne\, 275 93\, Sverige
X-APPLE-STRUCTURED-LOCATION;VALUE=URI;X-ADDRESS=Snogeholmsvägen 1232-68\, 
 Sjöbo\, Skåne\, 275 93\, Sverige;X-APPLE-RADIUS=100;X-TITLE=Sövdeborgs 
 Jaktskyttebana:geo:0,0
END:VEVENT
BEGIN:VTIMEZONE
TZID:Europe/Stockholm
X-LIC-LOCATION:Europe/Stockholm
BEGIN:DAYLIGHT
DTSTART:20250330T030000
TZOFFSETFROM:+0100
TZOFFSETTO:+0200
TZNAME:CEST
END:DAYLIGHT
END:VTIMEZONE
END:VCALENDAR