BEGIN:VCALENDAR
VERSION:2.0
PRODID:-//wp-events-plugin.com//7.2.3.1//EN
TZID:Europe/Stockholm
X-WR-TIMEZONE:Europe/Stockholm
BEGIN:VEVENT
UID:0-41@krets.jagareforbundet.se
DTSTART;TZID=Europe/Stockholm:20250211T190000
DTEND;TZID=Europe/Stockholm:20250211T210000
DTSTAMP:20250110T160413Z
URL:https://krets.jagareforbundet.se/lundabygdensjvk/events/arsmote-lundab
 ygdens-jvk-11-februari/
SUMMARY:Årsmöte Lundabygdens Jvk\, 11 februari
DESCRIPTION:Välkommen till årsmöte för Lundabygdens Jvk den 11 februari
 \, klockan 19.00.\n\nPlats Hurva Gästgiveri\n\nTid: uppdatering kommer\n\
 nProgram:\n\n 	Sillbord till subventionerat pris\n 	Årsmötesförhandling
 ar\n 	Föredrag om säljakt\n\nDetaljer om tid mm uppdateras snarast\n\nAn
 mälan till: lundabygdensjvk@gmail.com
LOCATION:Hurva gästis\, Gästgivaregård\, Hurva\, 241 94\, Sverige
X-APPLE-STRUCTURED-LOCATION;VALUE=URI;X-ADDRESS=Gästgivaregård\, Hurva\, 
 241 94\, Sverige;X-APPLE-RADIUS=100;X-TITLE=Hurva gästis:geo:0,0
END:VEVENT
BEGIN:VTIMEZONE
TZID:Europe/Stockholm
X-LIC-LOCATION:Europe/Stockholm
BEGIN:STANDARD
DTSTART:20241027T020000
TZOFFSETFROM:+0200
TZOFFSETTO:+0100
TZNAME:CET
END:STANDARD
END:VTIMEZONE
END:VCALENDAR