BEGIN:VCALENDAR
VERSION:2.0
PRODID:-//wp-events-plugin.com//7.2.3.1//EN
TZID:Europe/Stockholm
X-WR-TIMEZONE:Europe/Stockholm
BEGIN:VEVENT
UID:0-21@krets.jagareforbundet.se
DTSTART;TZID=Europe/Stockholm:20210815T100000
DTEND;TZID=Europe/Stockholm:20210815T140000
DTSTAMP:20210721T181505Z
URL:https://krets.jagareforbundet.se/lundabygdensjvk/events/bjorn-och-vild
 svinspasset-210815/
SUMMARY:Björn- och vildsvinspasset
DESCRIPTION:\nInbjudan att skjuta björn- och vildsvinspasset på Malmö Sk
 yttegilles skyttebana vid Spillepeng utanför Malmö söndagen den 15 augu
 sti 2021 klockan 10–14.\nFör medlemmar i Svenska Jägareförbundet är 
 skjutningen gratis. Dock får man själv hålla sig med övningsammunition
 . Tyvärr kan banan endast erbjuda försäljning av ammunition i kaliber 6
 \,5x55.\nPå grund av den pågående Corona pandemin skall deltagarna hål
 la distans till varandra - minst 2 meter - förutom att iaktta de regler s
 om gäller för vistelse på skjutbanan. Av samma skäl avstår styrelsen 
 från att bjuda på förfriskningar.\nVälkomna!\nStyrelsen\n\n\nhttps://j
 agareforbundet.se/.../vildsvinspassetny5juli...\nhttps://jagareforbundet.s
 e/jakt/skytte/Bjornpass/\n
CATEGORIES:Jaktskytte
LOCATION:Malmö Skyttegille\, Malmö Skyttegille\, Västkustvägen\, Malmö
 \, Sverige
GEO:55.631868;13.051330900000039
X-APPLE-STRUCTURED-LOCATION;VALUE=URI;X-ADDRESS=Malmö Skyttegille\, Västk
 ustvägen\, Malmö\, Sverige;X-APPLE-RADIUS=100;X-TITLE=Malmö Skyttegille
 :geo:55.631868,13.051330900000039
END:VEVENT
BEGIN:VTIMEZONE
TZID:Europe/Stockholm
X-LIC-LOCATION:Europe/Stockholm
BEGIN:DAYLIGHT
DTSTART:20210328T030000
TZOFFSETFROM:+0100
TZOFFSETTO:+0200
TZNAME:CEST
END:DAYLIGHT
END:VTIMEZONE
END:VCALENDAR