BEGIN:VCALENDAR
VERSION:2.0
PRODID:-//wp-events-plugin.com//7.2.3.1//EN
TZID:Europe/Stockholm
X-WR-TIMEZONE:Europe/Stockholm
BEGIN:VEVENT
UID:0-48@krets.jagareforbundet.se
DTSTART;TZID=Europe/Stockholm:20250927T130000
DTEND;TZID=Europe/Stockholm:20250927T150000
DTSTAMP:20250912T194630Z
URL:https://krets.jagareforbundet.se/lundabygdensjvk/events/hagelskytte-me
 d-instruktor-27-9/
SUMMARY:Hagelskytte med instruktör 27/9
DESCRIPTION:Ta chansen att värma upp hagelskyttet inför säsongens jakter
 💥🦆\n\nDen 27/9 anordnar nämligen Lundabygdens jvk lerduveskytte på
  trapbanan i samarbete med Staffanstorps sportskytteklubb.\n\nSkyttet påg
 år från 13:00 till 15:00 och på plats under hela skyttet kommer finnas 
 en instruktör som hjälper er att förfina skyttetekniken. Under eveneman
 get kommer Lundabygdens jvk att bjuda på fika.\n\nEvenemanget i sig är k
 ostnadsfritt men deltagarna står själva för kostnaden för skott och du
 vor.\n\nDet finns 20 platser på evenemanget och anmälan sker endast geno
 m formuläret nedan.\n\nhttps://forms.gle/CwdmQo25U1eS2meF6\n\nVi ses den 
 27 september!\n\nVarmt välkomna!
CATEGORIES:Jaktskytte
END:VEVENT
BEGIN:VTIMEZONE
TZID:Europe/Stockholm
X-LIC-LOCATION:Europe/Stockholm
BEGIN:DAYLIGHT
DTSTART:20250330T030000
TZOFFSETFROM:+0100
TZOFFSETTO:+0200
TZNAME:CEST
END:DAYLIGHT
END:VTIMEZONE
END:VCALENDAR