BEGIN:VCALENDAR
VERSION:2.0
PRODID:-//wp-events-plugin.com//7.2.3.1//EN
TZID:Europe/Stockholm
X-WR-TIMEZONE:Europe/Stockholm
BEGIN:VEVENT
UID:0-45@krets.jagareforbundet.se
DTSTART;TZID=Europe/Stockholm:20250617T180000
DTEND;TZID=Europe/Stockholm:20250617T200000
DTSTAMP:20250527T121935Z
URL:https://krets.jagareforbundet.se/lundabygdensjvk/events/skjutbiograf-i
 -staffanstorp/
SUMMARY:Skjutbiograf i Staffanstorp
DESCRIPTION:Den 17 juni 18:00 - 20:00 har Lundabygden bokat skjutbiografen 
 på Jakt &amp\; Skytte i Staffanstorp\, ett perfekt tillfälle att träna 
 sitt skytte!\nEventet är öppet för medlemmar i Lundabygdens Jaktvårdsk
 rets. Den som är medlem i Jägarförbundet och bor i Lundadistriktet är 
 automatiskt medlem i föreningen.\n\nDet går utmärkt att ta med eget kul
 vapen och ammunition\, det finns även möjlighet att hyra vapen och köpa
  ammunition på plats. Evenemanget i sig är kostnadsfritt\, men man står
  själv för kostnader för hyra av vapen och ammunition.\nMer info finns 
 här:https://jaktoskytte.com/skjutbiograf/\n\nAnmälan sker endast via fö
 ljande formulär:\nhttps://forms.gle/v47vqhVE9ryWCPyQ7\n\n\nVarmt Välkomm
 en!\n&nbsp\;
CATEGORIES:Jaktskytte,Skjutbiograf
LOCATION:Jakt och Skytte\, Meteorvägen 12\, Staffanstorp\, 245 34 \, Sveri
 ge
X-APPLE-STRUCTURED-LOCATION;VALUE=URI;X-ADDRESS=Meteorvägen 12\, Staffanst
 orp\, 245 34 \, Sverige;X-APPLE-RADIUS=100;X-TITLE=Jakt och Skytte:geo:0,0
END:VEVENT
BEGIN:VTIMEZONE
TZID:Europe/Stockholm
X-LIC-LOCATION:Europe/Stockholm
BEGIN:DAYLIGHT
DTSTART:20250330T030000
TZOFFSETFROM:+0100
TZOFFSETTO:+0200
TZNAME:CEST
END:DAYLIGHT
END:VTIMEZONE
END:VCALENDAR