BEGIN:VCALENDAR
VERSION:2.0
PRODID:-//wp-events-plugin.com//7.2.3.1//EN
TZID:Europe/Stockholm
X-WR-TIMEZONE:Europe/Stockholm
BEGIN:VEVENT
UID:0-36@krets.jagareforbundet.se
DTSTART;TZID=Europe/Stockholm:20240425T180000
DTEND;TZID=Europe/Stockholm:20240425T200000
DTSTAMP:20240414T195939Z
URL:https://krets.jagareforbundet.se/lundabygdensjvk/events/skyttetraning-
 pa-sovdeborg/
SUMMARY:Skytteträning på Sövdeborg
DESCRIPTION:Även i år kommer kretsen anordna skytteträning på Sövdebor
 g.\n\nDatum för skytteaktiviteten i Sövdeborg: torsdagen 25 april 2024 k
 l. 18.00-20.00.\n\nKretsen kommer att stå för 2 markeringsserier.\n\nObs
  krav på ljuddämpare eller rekylbroms.\n\nAnmälan nedan eller vi event 
 på Facevook.
LOCATION:Sövdeborgs Jaktskyttebana\, Snogeholmsvägen 1232-68\, Sjöbo\, S
 kåne\, 275 93\, Sverige
X-APPLE-STRUCTURED-LOCATION;VALUE=URI;X-ADDRESS=Snogeholmsvägen 1232-68\, 
 Sjöbo\, Skåne\, 275 93\, Sverige;X-APPLE-RADIUS=100;X-TITLE=Sövdeborgs 
 Jaktskyttebana:geo:0,0
END:VEVENT
BEGIN:VTIMEZONE
TZID:Europe/Stockholm
X-LIC-LOCATION:Europe/Stockholm
BEGIN:DAYLIGHT
DTSTART:20240331T030000
TZOFFSETFROM:+0100
TZOFFSETTO:+0200
TZNAME:CEST
END:DAYLIGHT
END:VTIMEZONE
END:VCALENDAR