BEGIN:VCALENDAR
VERSION:2.0
PRODID:-//wp-events-plugin.com//7.2.3.1//EN
TZID:Europe/Stockholm
X-WR-TIMEZONE:Europe/Stockholm
BEGIN:VEVENT
UID:0-47@krets.jagareforbundet.se
DTSTART;TZID=Europe/Stockholm:20250920T000000
DTEND;TZID=Europe/Stockholm:20250920T000000
DTSTAMP:20250901T174316Z
URL:https://krets.jagareforbundet.se/lundabygdensjvk/events/vakjakt-i-agus
 a-vilthagn-20-9/
SUMMARY:Vakjakt i Agusa vilthägn 20/9
DESCRIPTION:Lundabygdens jvk bjuder in till vakjakt i Agusa vilthägn den 2
 0/9🐗\n\nEfter en väldigt lyckad jakt den 30/8 bjuder Lundabygdens jvk 
 återigen in till vakjakt i Agusa vilthägn den 20 september.\n\nDagen bö
 rjar med ett informativt föredrag om vildsvin och efter föredraget komme
 r vakjakten hållas. I samband med jakten bjuds det på grillat.\n\nLundab
 ygdens jaktvårdskrets kommer subventionera jakten vilket gör att priset 
 för varje jägare blir 800 kr. Skjutet vilt kommer att lämnas in till sl
 akteri mot avgift\, skytten har i första hand chans att sedan köpa fält
  vilt. Jakten är bara öppen för Lundabygdens medlemmar. Det finns plats
  för 12 jägare på jakten. Antagning sker löpande. Mer praktisk informa
 tion och tider kommer i samband med bekräftelsen.\n\nFör att anmäla dig
  fyll i formuläret nedan. Anmälan sker endast genom formuläret.\nhttps:
 //forms.gle/gRyVjcCgxTV2jnPH7\n\nVarmt välkommen!
CATEGORIES:Vakjakt
END:VEVENT
BEGIN:VTIMEZONE
TZID:Europe/Stockholm
X-LIC-LOCATION:Europe/Stockholm
BEGIN:DAYLIGHT
DTSTART:20250330T030000
TZOFFSETFROM:+0100
TZOFFSETTO:+0200
TZNAME:CEST
END:DAYLIGHT
END:VTIMEZONE
END:VCALENDAR