BEGIN:VCALENDAR
VERSION:2.0
PRODID:-//wp-events-plugin.com//7.2.3.1//EN
TZID:Europe/Stockholm
X-WR-TIMEZONE:Europe/Stockholm
BEGIN:VEVENT
UID:0-46@krets.jagareforbundet.se
DTSTART;TZID=Europe/Stockholm:20250830T000000
DTEND;TZID=Europe/Stockholm:20250830T000000
DTSTAMP:20250807T202245Z
URL:https://krets.jagareforbundet.se/lundabygdensjvk/events/vakjakt-i-agus
 a-vilthagn-30-august-2025/
SUMMARY:Vakjakt i Agusa vilthägn 30 august 2025
DESCRIPTION:Lundabygdens Jaktvårdskrets bjuder in sina medlemmar till vakj
 akt i Agusa vilthägn den 30 augusti 2025.\n\nDagen börjar med ett inform
 ativt föredrag om vildsvin och efter föredraget kommer vakjakten hållas
 . I samband med jakten bjuds det på grillad korv.\n\nLundabygdens jaktvå
 rdskrets kommer subventionera jakten vilket gör att priset för varje jä
 gare blir 800 kr. Jakten är bara öppen för Lundabygdens medlemmar. Det 
 finns plats för 12 jägare på jakten. Så snart platserna är fyllda kom
 mer de antagna deltagarna att få ett bekräftelsemejl. Mer praktisk infor
 mation och tider kommer i samband med bekräftelsen.\n\nFör att anmäla d
 ig fyll i formuläret nedan. Anmälan sker endast genom formuläret.\n\nht
 tps://forms.gle/cP34mgM2KNSfSwk76\n\nVarmt välkomna!
ATTACH;FMTTYPE=image/jpeg:https://krets.jagareforbundet.se/lundabygdensjvk
 /files/2025/08/Grisar.jpg
CATEGORIES:Vakjakt
END:VEVENT
BEGIN:VTIMEZONE
TZID:Europe/Stockholm
X-LIC-LOCATION:Europe/Stockholm
BEGIN:DAYLIGHT
DTSTART:20250330T030000
TZOFFSETFROM:+0100
TZOFFSETTO:+0200
TZNAME:CEST
END:DAYLIGHT
END:VTIMEZONE
END:VCALENDAR