BEGIN:VCALENDAR
VERSION:2.0
PRODID:-//wp-events-plugin.com//7.2.3.1//EN
TZID:Europe/Stockholm
X-WR-TIMEZONE:Europe/Stockholm
BEGIN:VEVENT
UID:87-42@krets.jagareforbundet.se
DTSTART;TZID=Europe/Stockholm:20170223T190000
DTEND;TZID=Europe/Stockholm:20170223T220000
DTSTAMP:20161207T211655Z
URL:https://krets.jagareforbundet.se/nassjo/events/arsmote-2017/
SUMMARY:Årsmöte 2017
DESCRIPTION:Välkommen till årsmöte.\nStefan Hoof Viltförvaltningsdelega
 tionen kommer och pratar älg och rovdjur.\nFika finns till självkostnads
 pris.
ATTACH;FMTTYPE=image/jpeg:https://krets.jagareforbundet.se/nassjo/files/20
 16/02/12733489_1203900019640087_5292748874575627295_n1.jpg
LOCATION:Nässjö jaktskyttecenter\, Ekesjö\, Fredriksdal\, 57175\, Sverig
 e
GEO:57.60012198033702;14.5746858367188
X-APPLE-STRUCTURED-LOCATION;VALUE=URI;X-ADDRESS=Ekesjö\, Fredriksdal\, 571
 75\, Sverige;X-APPLE-RADIUS=100;X-TITLE=Nässjö jaktskyttecenter:geo:57.6
 0012198033702,14.5746858367188
END:VEVENT
BEGIN:VTIMEZONE
TZID:Europe/Stockholm
X-LIC-LOCATION:Europe/Stockholm
BEGIN:STANDARD
DTSTART:20161030T020000
TZOFFSETFROM:+0200
TZOFFSETTO:+0100
TZNAME:CET
END:STANDARD
END:VTIMEZONE
END:VCALENDAR