BEGIN:VCALENDAR
VERSION:2.0
PRODID:-//wp-events-plugin.com//7.2.3.1//EN
TZID:Europe/Stockholm
X-WR-TIMEZONE:Europe/Stockholm
BEGIN:VEVENT
UID:0-70@krets.jagareforbundet.se
DTSTART;TZID=Europe/Stockholm:20250220T190000
DTEND;TZID=Europe/Stockholm:20250220T210000
DTSTAMP:20241218T092409Z
URL:https://krets.jagareforbundet.se/nassjo/events/arsmote-2025/
SUMMARY:Årsmöte 2025
DESCRIPTION:Svenska Jägareförbundet Nässjö hälsar alla medlemmar välk
 omna till årsmötet 2025.\n\nMötet är 20 februari 2025 kl. 19 på Näss
 jö Jaktskyttecenter.\n\nÅrets gästföreläsare är Magnus Rydholm från
  Bodafors.\n\nVi bjuder på smörgåstårta och kaffe.\n\n&nbsp\;\n\nVarmt
  välkomna!
LOCATION:Nässjö jaktskyttecenter\, Ekesjö\, Fredriksdal\, 57175\, Sverig
 e
GEO:57.60012198033702;14.5746858367188
X-APPLE-STRUCTURED-LOCATION;VALUE=URI;X-ADDRESS=Ekesjö\, Fredriksdal\, 571
 75\, Sverige;X-APPLE-RADIUS=100;X-TITLE=Nässjö jaktskyttecenter:geo:57.6
 0012198033702,14.5746858367188
END:VEVENT
BEGIN:VTIMEZONE
TZID:Europe/Stockholm
X-LIC-LOCATION:Europe/Stockholm
BEGIN:STANDARD
DTSTART:20241027T020000
TZOFFSETFROM:+0200
TZOFFSETTO:+0100
TZNAME:CET
END:STANDARD
END:VTIMEZONE
END:VCALENDAR