BEGIN:VCALENDAR
VERSION:2.0
PRODID:-//wp-events-plugin.com//7.2.3.1//EN
TZID:Europe/Stockholm
X-WR-TIMEZONE:Europe/Stockholm
BEGIN:VEVENT
UID:0-47@krets.jagareforbundet.se
DTSTART;TZID=Europe/Stockholm:20180221T183000
DTEND;TZID=Europe/Stockholm:20180221T210000
DTSTAMP:20171202T134732Z
URL:https://krets.jagareforbundet.se/nassjo/events/arsmote-3/
SUMMARY:Årsmöte
DESCRIPTION:Välkommen till årsmötet för Nässjö jaktvårdskrets den 21
  februari 2018 kl 18.30\nGästföreläsare Cristian Larsson Jaktia som kom
 mer och pratar vildsvinsjakt vid åtel där han presenterar olika val av r
 iktmedel som mörkersikte ammunition osv. Kaffe serveras till självkostna
 dspris.\nVid årsmötet kommer vi lotta ut en kolvkamshöjning utförd av 
 Ola Rehn.\n\nVarmt välkomna\nOrdförande\nLars Gustafsson\nAlmesåkra Nyh
 agen\n571 66 Bodafors\nlarsnyhagen@hotmail.com\n0737-09 13 17
ATTACH;FMTTYPE=image/jpeg:https://krets.jagareforbundet.se/nassjo/files/20
 16/02/12733489_1203900019640087_5292748874575627295_n1.jpg
LOCATION:Nässjö jaktskyttecenter\, Ekesjö\, Fredriksdal\, 57175\, Sverig
 e
GEO:57.60012198033702;14.5746858367188
X-APPLE-STRUCTURED-LOCATION;VALUE=URI;X-ADDRESS=Ekesjö\, Fredriksdal\, 571
 75\, Sverige;X-APPLE-RADIUS=100;X-TITLE=Nässjö jaktskyttecenter:geo:57.6
 0012198033702,14.5746858367188
END:VEVENT
BEGIN:VTIMEZONE
TZID:Europe/Stockholm
X-LIC-LOCATION:Europe/Stockholm
BEGIN:STANDARD
DTSTART:20171029T020000
TZOFFSETFROM:+0200
TZOFFSETTO:+0100
TZNAME:CET
END:STANDARD
END:VTIMEZONE
END:VCALENDAR