BEGIN:VCALENDAR
VERSION:2.0
PRODID:-//wp-events-plugin.com//7.2.3.1//EN
TZID:Europe/Stockholm
X-WR-TIMEZONE:Europe/Stockholm
BEGIN:VEVENT
UID:87-21@krets.jagareforbundet.se
DTSTART;TZID=Europe/Stockholm:20150827T080000
DTEND;TZID=Europe/Stockholm:20150828T160000
DTSTAMP:20150715T170013Z
URL:https://krets.jagareforbundet.se/nassjo/events/jaktledarutbildning/
SUMMARY:JAKTLEDARUTBILDNING
DESCRIPTION:När:\n27-28 augusti\n\nUtbildningsansvarig:\nJaktvårdskonsule
 nt Jesper Einarsson\n\nTid:\nca 8.00 - ca 16.00 båda dagarna\n\nVar:\nNä
 ssjö jaktskyttecenter\n\nPris:\n950 kr\n\nMat:\nFör Jägarförbundets me
 dlemmar sponsrar Nässjö jaktvårdskrets med frukostmackan\, middag och e
 ftermiddagskaffe. För övriga kostar matpaketet 200 kr för båda dagarna
 .\n\nAntal:\n20 platser "först till kvarn gäller"\n\nAnmälan till:\n\nL
 ars Gustafsson mobil 073-709 13 17 bostad 0380-37 30 45 E-post larsnyhagen
 @hotmail.com\n\nKlicka här för att få inbjudan som pdf. \n\n&nbsp\;\n\
 nJaktledaren har ansvar för:\nAtt de som jagar har löst statligt jaktkor
 t\, har vapenlicens och i övrigt fullgjort vad som beslutats som om skjut
 prov på jaktstämma\, sista anmälningsdag för jakten\, ansvarsförsäkr
 ing och liknande.\nAtt informera jaktdeltagarna om: Licensföreskrifter\, 
 Sambandsbestämmelser och regler för att undvika överskjutning. Tid då 
 jakten börjar och hur den avbryts. Säkerhetsregler om vapenhantering\, n
 ykterhet. Skjutriktningar\, vem som får gå på älgstånd etc. Gränsfö
 rhållanden för det område som avjagas.\nAtt ha förvissat sig om att en
  eftersökshund finns tillgänglig inom två timmar.\nAtt lagbestämmelser
  om eftersök och underättelseplikt vid eventuell skadskjutning\, avräkn
 ing från licensen mm följs.\nAtt genom diskussioner inom jaktlaget klara
  ut vad som gäller vid köttdelning\, fördelning av pass\, vem som går 
 med hund\, skjutbara djur m m.\nAtt fällda älgar rapporteras och att avg
 ifter betalas in till länsstyrelse alt storlicensområde.\nJaktledaren ha
 r befogenhet\nAtt ge de anvisningar som behövs för ansvarstaganden enlig
 t ovan.\nAtt omedelbart från jakt avstänga den som bryter mot jaktstämm
 obeslut eller inte följer meddelade anvisningar och avvisa den som handsk
 as vårdslöst med skjutvapen eller är onykter. Avstängning skall snaras
 t anmälas till styrelsen för vidare åtgärd.\nAtt efter samråd med jak
 tlaget besluta om vilka dagar jakt skall ske samt när jakten för året s
 kall avbrytas.
ATTACH;FMTTYPE=image/jpeg:https://krets.jagareforbundet.se/nassjo/files/20
 15/07/image.jpg
LOCATION:Nässjö jaktskyttecenter\, Ekesjö\, Fredriksdal\, 57175\, Sverig
 e
GEO:57.60012198033702;14.5746858367188
X-APPLE-STRUCTURED-LOCATION;VALUE=URI;X-ADDRESS=Ekesjö\, Fredriksdal\, 571
 75\, Sverige;X-APPLE-RADIUS=100;X-TITLE=Nässjö jaktskyttecenter:geo:57.6
 0012198033702,14.5746858367188
END:VEVENT
BEGIN:VTIMEZONE
TZID:Europe/Stockholm
X-LIC-LOCATION:Europe/Stockholm
BEGIN:DAYLIGHT
DTSTART:20150329T030000
TZOFFSETFROM:+0100
TZOFFSETTO:+0200
TZNAME:CEST
END:DAYLIGHT
END:VTIMEZONE
END:VCALENDAR