BEGIN:VCALENDAR
VERSION:2.0
PRODID:-//wp-events-plugin.com//7.2.3.1//EN
TZID:Europe/Stockholm
X-WR-TIMEZONE:Europe/Stockholm
BEGIN:VEVENT
UID:0-65@krets.jagareforbundet.se
DTSTART;TZID=Europe/Stockholm:20240504T130000
DTEND;TZID=Europe/Stockholm:20240504T170000
DTSTAMP:20240425T150146Z
URL:https://krets.jagareforbundet.se/nassjo/events/jaqt-prova-pa-jaktstig/
SUMMARY:JAQT prova på jaktstig
DESCRIPTION:Är du kvinna och vill vara med på jaktstig men känner att du
  behöver öva lite innan? Då är du hjärtligt välkommen till Nässjö 
 jaktskyttecenter lördagen 4/5 kl.13-17 på JAQT Jönköpings län träff.
 \n\n&nbsp\;
ATTACH;FMTTYPE=image/jpeg:https://krets.jagareforbundet.se/nassjo/files/20
 24/04/jaktstig.jpg
LOCATION:Nässjö jaktskyttecenter\, Ekesjö\, Fredriksdal\, 57175\, Sverig
 e
GEO:57.60012198033702;14.5746858367188
X-APPLE-STRUCTURED-LOCATION;VALUE=URI;X-ADDRESS=Ekesjö\, Fredriksdal\, 571
 75\, Sverige;X-APPLE-RADIUS=100;X-TITLE=Nässjö jaktskyttecenter:geo:57.6
 0012198033702,14.5746858367188
END:VEVENT
BEGIN:VTIMEZONE
TZID:Europe/Stockholm
X-LIC-LOCATION:Europe/Stockholm
BEGIN:DAYLIGHT
DTSTART:20240331T030000
TZOFFSETFROM:+0100
TZOFFSETTO:+0200
TZNAME:CEST
END:DAYLIGHT
END:VTIMEZONE
END:VCALENDAR