BEGIN:VCALENDAR
VERSION:2.0
PRODID:-//wp-events-plugin.com//7.2.3.1//EN
TZID:Europe/Stockholm
X-WR-TIMEZONE:Europe/Stockholm
BEGIN:VEVENT
UID:87-12@krets.jagareforbundet.se
DTSTART;TZID=Europe/Stockholm;VALUE=DATE:20150503
DTEND;TZID=Europe/Stockholm;VALUE=DATE:20150504
DTSTAMP:20150318T153937Z
URL:https://krets.jagareforbundet.se/nassjo/events/kretsmasterskap-i-efter
 sok/
SUMMARY:Kretsmästerskap i eftersök.
DESCRIPTION:Årligt arrangemang där tillfälle ges att träna ytterliga i 
 eftersök.\nAnmälan till Marcus Grändemark telefon 0703-48 45 45\nE-post
  mgeftersok@gmail.com
ATTACH;FMTTYPE=image/jpeg:https://krets.jagareforbundet.se/nassjo/files/20
 15/03/alpenlandische_dachsbracke_.jpg
LOCATION:Nässjö jaktskyttecenter\, Ekesjö\, Fredriksdal\, 57175\, Sverig
 e
GEO:57.60012198033702;14.5746858367188
X-APPLE-STRUCTURED-LOCATION;VALUE=URI;X-ADDRESS=Ekesjö\, Fredriksdal\, 571
 75\, Sverige;X-APPLE-RADIUS=100;X-TITLE=Nässjö jaktskyttecenter:geo:57.6
 0012198033702,14.5746858367188
END:VEVENT
BEGIN:VTIMEZONE
TZID:Europe/Stockholm
X-LIC-LOCATION:Europe/Stockholm
BEGIN:DAYLIGHT
DTSTART:20150329T030000
TZOFFSETFROM:+0100
TZOFFSETTO:+0200
TZNAME:CEST
END:DAYLIGHT
END:VTIMEZONE
END:VCALENDAR