BEGIN:VCALENDAR
VERSION:2.0
PRODID:-//wp-events-plugin.com//7.2.3.1//EN
TZID:Europe/Stockholm
X-WR-TIMEZONE:Europe/Stockholm
BEGIN:VEVENT
UID:0-54@krets.jagareforbundet.se
DTSTART;TZID=Europe/Stockholm:20180809T170000
DTEND;TZID=Europe/Stockholm:20180809T200000
DTSTAMP:20180723T221635Z
URL:https://krets.jagareforbundet.se/nassjo/events/kretsmasterskap-i-jakts
 kytte-2018/
SUMMARY:KRETSMÄSTERSKAP I  JAKTSKYTTE 2018
DESCRIPTION:Arrangeras torsdagen den 9 augusti 2018 \n\nPlats: Bodaforsjakt
 skytebana Guthult \n\nAnmälan mellan kl 17.00 – 18.00\n\n \n\nTÄVLING
 SPROGRAM\n\n\n\nÄlg\n\n \n\n \n\nRådjur\n\n \n\n \n\nJägartrap\n\n
  \n\nStartavgift\n\n \n\nKlasser\n\n \n\n \n\n \n\n \n\nLag\nStåend
 e + löpande\, 8 skott\, 80 meter.\n\nVapen som kan laddas med klass 1 amm
 unition.\n\n \n\nStillastående\, 4 skott 5 poäng totalt 20 poäng\, 50 
 meter.\n\nVapen som kan laddas med klass 1 eller 2 ammunition.\n\n \n\n15
  duvor. 4 poäng per duva.\n\n \n\n100 kronor.\n\n \n\nAlla startar i Ö
 ppen klass. Bästa: Dam\, Junior (upp till 20 år)\, Oldboy (50-60 år) oc
 h Veteran (över 60 år) och premieras oavsett placering. Åldersgränsern
 a gäller från och med det år skytten fyller.\n\n \n\nDe tre bästa sky
 ttarna från samma kretslag.\n\n \n\n\nKretsmästerskapsfinal och\n\nLän
 smästerskap Jaktskytte 2018\n\navgörs på Nässjö jaktskyttecenter vid 
 Fredriksdal.\n\nDen 26 augusti 2018\n\nAnmälan 9.00 – 10.00 \n\nKontakt
 person: Åke Johnsson 070-6006913\n\nKaffe och korv finns\n\n\n\n \n\nVÄ
 LKOMNA!
ATTACH;FMTTYPE=image/jpeg:https://krets.jagareforbundet.se/nassjo/files/20
 18/06/160510_004.jpg
LOCATION:Bodaforsskjutbana\, Guthult\, bodafors\, Sverige
GEO:57.516695617667196;14.756573590026846
X-APPLE-STRUCTURED-LOCATION;VALUE=URI;X-ADDRESS=Guthult\, bodafors\, Sverig
 e;X-APPLE-RADIUS=100;X-TITLE=Bodaforsskjutbana:geo:57.516695617667196,14.7
 56573590026846
END:VEVENT
BEGIN:VTIMEZONE
TZID:Europe/Stockholm
X-LIC-LOCATION:Europe/Stockholm
BEGIN:DAYLIGHT
DTSTART:20180325T030000
TZOFFSETFROM:+0100
TZOFFSETTO:+0200
TZNAME:CEST
END:DAYLIGHT
END:VTIMEZONE
END:VCALENDAR