BEGIN:VCALENDAR
VERSION:2.0
PRODID:-//wp-events-plugin.com//7.2.3.1//EN
TZID:Europe/Stockholm
X-WR-TIMEZONE:Europe/Stockholm
BEGIN:VEVENT
UID:87-4@krets.jagareforbundet.se
DTSTART;TZID=Europe/Stockholm:20140323T130000
DTEND;TZID=Europe/Stockholm:20140323T160000
DTSTAMP:20140303T095142Z
URL:https://krets.jagareforbundet.se/nassjo/events/mentala-forutsattningar
 -for-olika-typer-av-jakthundar/
SUMMARY:Mentala förutsättningar för olika typer av jakthundar
DESCRIPTION:Barbro berättar om jägareförbundets testbana och förklarar 
 hur olika anlag styr hundar under jakten.\n\nInträde 100 kr\n\nKlicka på
  Länken  här "Barbro" för att komma till inbjudan.\n\nObs: Det står i
 nte i inbjudan när det slutar.
LOCATION:Studifrämjandet\, Västra Järnvägsgatan 13\, Tranås\, Sverige
GEO:58.03984939999999;14.975357099999996
X-APPLE-STRUCTURED-LOCATION;VALUE=URI;X-ADDRESS=Västra Järnvägsgatan 13\
 , Tranås\, Sverige;X-APPLE-RADIUS=100;X-TITLE=Studifrämjandet:geo:58.039
 84939999999,14.975357099999996
END:VEVENT
BEGIN:VTIMEZONE
TZID:Europe/Stockholm
X-LIC-LOCATION:Europe/Stockholm
BEGIN:STANDARD
DTSTART:20131027T020000
TZOFFSETFROM:+0200
TZOFFSETTO:+0100
TZNAME:CET
END:STANDARD
END:VTIMEZONE
END:VCALENDAR