BEGIN:VCALENDAR
VERSION:2.0
PRODID:-//wp-events-plugin.com//7.2.3.1//EN
TZID:Europe/Stockholm
X-WR-TIMEZONE:Europe/Stockholm
BEGIN:VEVENT
UID:87-18@krets.jagareforbundet.se
DTSTART;TZID=Europe/Stockholm:20150508T000000
DTEND;TZID=Europe/Stockholm:20150508T000000
DTSTAMP:20150318T160038Z
URL:https://krets.jagareforbundet.se/nassjo/events/mentaltest-av-din-hund-
 3/
SUMMARY:Mentaltest av din hund
DESCRIPTION:Svenska Jägareförbundets Mentaltest.\n\nVälkommen att boka t
 id för mentaltest av din hund.\n\nFörstå din hunds mentalitet och käns
 lor.\n\n\nPlats: Nystorps Gård \, ANEBY\n\nTid: 8-10 maj\n\nDomare: Magnu
 s Magnusson\, Malin Kyllesjö\n\nKostnad: 1200:-/hund\n\nKontakta Malin Ky
 llesjö för tidsbokning och förfrågningar\n\nMalin.kyllesjo@herrgardskl
 iniken.se 070-6699189\n\nSJF Symbol RGB.jpg\n\nMalin Kyllesjö\n\nAdminist
 ratör-organisatör
ATTACH;FMTTYPE=image/jpeg:https://krets.jagareforbundet.se/nassjo/files/20
 15/03/mentaltest-138.jpg
END:VEVENT
BEGIN:VTIMEZONE
TZID:Europe/Stockholm
X-LIC-LOCATION:Europe/Stockholm
BEGIN:DAYLIGHT
DTSTART:20150329T030000
TZOFFSETFROM:+0100
TZOFFSETTO:+0200
TZNAME:CEST
END:DAYLIGHT
END:VTIMEZONE
END:VCALENDAR