BEGIN:VCALENDAR
VERSION:2.0
PRODID:-//wp-events-plugin.com//7.2.3.1//EN
TZID:Europe/Stockholm
X-WR-TIMEZONE:Europe/Stockholm
BEGIN:VEVENT
UID:87-13@krets.jagareforbundet.se
DTSTART;TZID=Europe/Stockholm;VALUE=DATE:20150704
DTEND;TZID=Europe/Stockholm;VALUE=DATE:20150705
DTSTAMP:20150601T204600Z
URL:https://krets.jagareforbundet.se/nassjo/events/nyarsfest-nytt-jaktar/
SUMMARY:Nyårsfest (Nytt jaktår)
DESCRIPTION:Klick på länken för att se hela Inbjudan till vår Nyårsfes
 t 2015\n\nNytt jaktår skall firas och det gör vi med ett Nyårsfirande\n
 \nNär? Jo den 4/7 på Nässjö jaktskyttecenter och vi börjar kl. 16:00 
 med aktiviteter så som\, tipspromenad för vuxna och barn\, och lite skyt
 te\, pil och bollkastning m.m.\n\nHundparad med hundsektionen.\n\n	19:00 f
 ortsätter kvällen med mat med tillbehör\, läsk/vatten och kaffe samt e
 n lott till kvällens lotteri som ingår i priset. Övrig dryck tar ni med
  själva!\n\n&nbsp\;\n\n&nbsp\;\n\n&nbsp\;\n\nAnmälan kan skickas till ma
 iladress johan.nassjojvk@outlook.com med namn\, adress och telefon nr samt
  hur många som kommer.\n\nEller på följande nummer:\n\nJohan 0732/74 06
  81\n\nSenast den 25/6 ska anmälan vara gjord och den är bindande.\n\nKo
 stnad 200kr/person betalas vid ankomst\, barn upp till 12 år gratis\n\nV
 älkomna\n\nNJVK styrelse.\n\n&nbsp\;\n\n&nbsp\;
ATTACH;FMTTYPE=image/jpeg:https://krets.jagareforbundet.se/nassjo/files/20
 15/03/9a1449d869-bilder-Jaktskyttecenter-070.jpg
LOCATION:Nässjö jaktskyttecenter\, Ekesjö\, Fredriksdal\, 57175\, Sverig
 e
GEO:57.60012198033702;14.5746858367188
X-APPLE-STRUCTURED-LOCATION;VALUE=URI;X-ADDRESS=Ekesjö\, Fredriksdal\, 571
 75\, Sverige;X-APPLE-RADIUS=100;X-TITLE=Nässjö jaktskyttecenter:geo:57.6
 0012198033702,14.5746858367188
END:VEVENT
BEGIN:VTIMEZONE
TZID:Europe/Stockholm
X-LIC-LOCATION:Europe/Stockholm
BEGIN:DAYLIGHT
DTSTART:20150329T030000
TZOFFSETFROM:+0100
TZOFFSETTO:+0200
TZNAME:CEST
END:DAYLIGHT
END:VTIMEZONE
END:VCALENDAR