BEGIN:VCALENDAR
VERSION:2.0
PRODID:-//wp-events-plugin.com//7.2.3.1//EN
TZID:Europe/Stockholm
X-WR-TIMEZONE:Europe/Stockholm
BEGIN:VEVENT
UID:87-11@krets.jagareforbundet.se
DTSTART;TZID=Europe/Stockholm:20150306T160000
DTEND;TZID=Europe/Stockholm:20150308T160000
DTSTAMP:20150210T210733Z
URL:https://krets.jagareforbundet.se/nassjo/events/ravjakt/
SUMMARY:Rävjakt
DESCRIPTION:Missa inte årets Rävjakts insamling!!\nJakten sker till förm
 ån för Barndiabetesfonden.\nAnmälan\nSker genom inbetalning av minst 20
 kr/deltagare.\nVilket oavkortat går till Barndiabetesfonden.\n\n	Via ins
 ättning lagvis till kretsens plusgirokont i Nordea 48 77 76-7\n	Direkt ti
 ll någon ur Styrelsen eller hundsektionen i Jaktvårdskretsen\n\nJaktform
 \nDet är valfri jaktform som gäller\n\nSå om man vill Vaka vid sin åte
 l hela natten och sedan fortsätta dagen med lockjakt.\nEller bedriva räv
 jakt med hund drivande och eller vid gryt.\nEller varför inte arrangera e
 n klappjakt med hela älgjaktslaget!\n\nDet är fantasin som sätter grän
 sen.\nJakttid\nJakttiden hela helgen v10 från fredag kväll 6/3 till sön
 dag 8/3\nViltparad\nJakten avslutas med gemensam viltparad vid Nässjö Ja
 ktskyttecenter söndagen 8/3 Klockan 16:00.\n\nKretsen ordnar med Korvgril
 lning till självkostnadspris.\n\n&nbsp\;\n\nVäl mött i Rävjaktsskogen.
 \n\nNässjö Jaktvårdskrets och Hundsektionen\n\nMarcus Grändemark\n070-
 348 4545\nmgeftersok@gmail.com
LOCATION:Nässjö jaktskyttecenter\, Ekesjö\, Fredriksdal\, 57175\, Sverig
 e
GEO:57.60012198033702;14.5746858367188
X-APPLE-STRUCTURED-LOCATION;VALUE=URI;X-ADDRESS=Ekesjö\, Fredriksdal\, 571
 75\, Sverige;X-APPLE-RADIUS=100;X-TITLE=Nässjö jaktskyttecenter:geo:57.6
 0012198033702,14.5746858367188
END:VEVENT
BEGIN:VTIMEZONE
TZID:Europe/Stockholm
X-LIC-LOCATION:Europe/Stockholm
BEGIN:STANDARD
DTSTART:20141026T020000
TZOFFSETFROM:+0200
TZOFFSETTO:+0100
TZNAME:CET
END:STANDARD
END:VTIMEZONE
END:VCALENDAR