BEGIN:VCALENDAR
VERSION:2.0
PRODID:-//wp-events-plugin.com//7.2.3.1//EN
TZID:Europe/Stockholm
X-WR-TIMEZONE:Europe/Stockholm
BEGIN:VEVENT
UID:0-51@krets.jagareforbundet.se
DTSTART;TZID=Europe/Stockholm:20180429T140000
DTEND;TZID=Europe/Stockholm:20180429T143000
DTSTAMP:20180428T184035Z
URL:https://krets.jagareforbundet.se/nassjo/events/spartraff-for-dig-som-a
 r-intresserad-av-att-ga-viltspar/
SUMMARY:Spårträff för dig som är intresserad av att gå viltspår.
DESCRIPTION:Spårträffarna har varit mycket uppskattade och för er som in
 te kunnat vara med så har vi bokat upp ytterligare en söndag den 29 apri
 l.\n\nSpårträff för dig som är intresserad utav att gå viltspår med 
 din hund. Alla hundar är välkomna oavsett ålder och erfarenhet.\nVi lä
 gger spår åt varandra och diskuterar frågor och annat som rör viltspå
 r över en fika.\n\nVi kommer att anordna träff både den 15 och den 22 a
 pril.\nVi träffas på skjutbanan i Bodafors klockan 14:00 och fortsätter
  sedan ut till platsen där vi ska vara och spåra mm\n\nTräffen är kost
 nadsfri och anordnas för att fler ska få upp intresset för viltspår so
 m träning och aktivering.\n\nMedtag eget fika\, klöv och blod om du har 
 tillgång till detta\, sele och lina om du har.\n\nVid frågor kontakta Os
 kar gustafsson\n0763390050
LOCATION:Bodaforsskjutbana\, Guthult\, bodafors\, Sverige
GEO:57.516695617667196;14.756573590026846
X-APPLE-STRUCTURED-LOCATION;VALUE=URI;X-ADDRESS=Guthult\, bodafors\, Sverig
 e;X-APPLE-RADIUS=100;X-TITLE=Bodaforsskjutbana:geo:57.516695617667196,14.7
 56573590026846
END:VEVENT
BEGIN:VTIMEZONE
TZID:Europe/Stockholm
X-LIC-LOCATION:Europe/Stockholm
BEGIN:DAYLIGHT
DTSTART:20180325T030000
TZOFFSETFROM:+0100
TZOFFSETTO:+0200
TZNAME:CEST
END:DAYLIGHT
END:VTIMEZONE
END:VCALENDAR