BEGIN:VCALENDAR
VERSION:2.0
PRODID:-//wp-events-plugin.com//7.2.3.1//EN
TZID:Europe/Stockholm
X-WR-TIMEZONE:Europe/Stockholm
BEGIN:VEVENT
UID:0-49@krets.jagareforbundet.se
DTSTART;TZID=Europe/Stockholm:20180415T130000
DTEND;TZID=Europe/Stockholm:20180415T131500
DTSTAMP:20180306T203520Z
URL:https://krets.jagareforbundet.se/nassjo/events/spartraff-for-dig-som-a
 r-intresserad-utav-att-ga-viltspar-med-din-hund/
SUMMARY:Spårträff för dig som är intresserad utav att gå viltspår med
  din hund.
DESCRIPTION:Spårträff för dig som är intresserad utav att gå viltspår
  med din hund. Alla hundar är välkomna oavsett ålder och erfarenhet.\nV
 i lägger spår åt varandra och diskuterar frågor och annat som rör vil
 tspår över en fika.\n\nVi kommer att anordna träff både den 15 och den
  22 april.\nVi träffas på skjutbanan i Bodafors klockan 13:00 och forts
 ätter sedan ut till platsen där vi ska vara och spåra mm\n\nTräffen ä
 r kostnadsfri och anordnas för att fler ska få upp intresset för viltsp
 år som träning och aktivering.\n\nMedtag eget fika\, klöv och blod om d
 u har tillgång till detta\, sele och lina om du har.\n\nVid frågor konta
 kta Oskar gustafsson\n0763390050Alla hundar är välkomna oavsett ålder o
 ch erfarenhet.\nVi lägger spår åt varandra och diskuterar frågor och a
 nnat som rör viltspår över en fika.\n\nVi kommer att anordna träff bå
 de den 15 och den 22 april.\nVi träffas på skjutbanan i Bodafors klockan
  13:00 och fortsätter sedan ut till platsen där vi ska vara och spåra m
 m\n\nTräffen är kostnadsfri och anordnas för att fler ska få upp intre
 sset för viltspår som träning och aktivering.\n\nMedtag eget fika\, kl
 öv och blod om du har tillgång till detta\, sele och lina om du har.\n\n
 Vid frågor kontakta Oskar gustafsson\n0763390050
ATTACH;FMTTYPE=image/jpeg:https://krets.jagareforbundet.se/nassjo/files/20
 16/02/3.jpg
LOCATION:Bodaforsskjutbana\, Guthult\, bodafors\, Sverige
GEO:57.516695617667196;14.756573590026846
X-APPLE-STRUCTURED-LOCATION;VALUE=URI;X-ADDRESS=Guthult\, bodafors\, Sverig
 e;X-APPLE-RADIUS=100;X-TITLE=Bodaforsskjutbana:geo:57.516695617667196,14.7
 56573590026846
END:VEVENT
BEGIN:VTIMEZONE
TZID:Europe/Stockholm
X-LIC-LOCATION:Europe/Stockholm
BEGIN:DAYLIGHT
DTSTART:20180325T030000
TZOFFSETFROM:+0100
TZOFFSETTO:+0200
TZNAME:CEST
END:DAYLIGHT
END:VTIMEZONE
END:VCALENDAR