BEGIN:VCALENDAR
VERSION:2.0
PRODID:-//wp-events-plugin.com//7.2.3.1//EN
TZID:Europe/Stockholm
X-WR-TIMEZONE:Europe/Stockholm
BEGIN:VEVENT
UID:0-52@krets.jagareforbundet.se
DTSTART;TZID=Europe/Stockholm:20180513T140000
DTEND;TZID=Europe/Stockholm:20180513T140000
DTSTAMP:20180511T190117Z
URL:https://krets.jagareforbundet.se/nassjo/events/spartraff/
SUMMARY:Spårträff
DESCRIPTION:Spårträff på söndag 1400 i Bodafors skjutbana
ATTACH;FMTTYPE=image/jpeg:https://krets.jagareforbundet.se/nassjo/files/20
 18/05/835b6870-5114-429d-bd23-67f00c19dcf3.jpeg
LOCATION:Bodaforsskjutbana\, Guthult\, bodafors\, Sverige
GEO:57.516695617667196;14.756573590026846
X-APPLE-STRUCTURED-LOCATION;VALUE=URI;X-ADDRESS=Guthult\, bodafors\, Sverig
 e;X-APPLE-RADIUS=100;X-TITLE=Bodaforsskjutbana:geo:57.516695617667196,14.7
 56573590026846
END:VEVENT
BEGIN:VTIMEZONE
TZID:Europe/Stockholm
X-LIC-LOCATION:Europe/Stockholm
BEGIN:DAYLIGHT
DTSTART:20180325T030000
TZOFFSETFROM:+0100
TZOFFSETTO:+0200
TZNAME:CEST
END:DAYLIGHT
END:VTIMEZONE
END:VCALENDAR