BEGIN:VCALENDAR
VERSION:2.0
PRODID:-//wp-events-plugin.com//7.2.3.1//EN
TZID:Europe/Stockholm
X-WR-TIMEZONE:Europe/Stockholm
BEGIN:VEVENT
UID:87-22@krets.jagareforbundet.se
DTSTART;TZID=Europe/Stockholm:20151001T180000
DTEND;TZID=Europe/Stockholm:20151001T210000
DTSTAMP:20150913T184607Z
URL:https://krets.jagareforbundet.se/nassjo/events/start-jagarskolan-jagar
 examen/
SUMMARY:Start jägarskolan / jägarexamen
DESCRIPTION:Jägarskola- Nässjö\nJÄGARSKOLA /JÄGAREXAMEN \ni Nässjö j
 aktvårdskrets regi. Första träffen uppstart söndag sedan måndag kväl
 lar. \n\nJägarskola subventionerad för ungdom. \nVår ambition är att b
 ygga upp deltagarnas kunskap så de har en stabil grundplåt inför ett li
 v som jägare eller naturmänniska. Kursen innehåller såväl teoretiska 
 som praktiska inslag. \n\nVi kör utbildningen i Jaktskyttecenters lokaler
  i Fredriksdal \nKursledare är Kjell Mohlin\, Martin Green och Martin San
 dstedt. Vi tar in expertföreläsare vid minst 8 tillfällen \n\nVi starta
 r I november i skogen med upptakt och bokutlämning + lite jakt-tillämpni
 ng \nVi kör sedan 16 teorikvällar på måndagkvällar kl 18-21 f fram ti
 ll mars 2015\, inklusive en heldag stövarjakt i januari med skogsprat i H
 ook \nÅterträff under första hösten med skytte och erfarenhetsutbyte. 
 \n\nVi tar emot 12 deltagare. Kursdeltagare ska vara minst 15år\, ungdoma
 r har förtur. \n\nPris för ungdom 15-20år 3 000 kr inklusive bokväska 
 \nSeniorer 21år + 4 300 kr inklusive bokväska \n\nUtöver Jägarskoleavg
 iften tillkommer \nMedlemskap i \nJägareförbundet 150 kr för personer y
 ngre än 26 år\, 300 kr för personer från 26 år och uppåt \n\nMedlems
 kap i Nässjö jaktskyttecenter subventionerat pris jägarskolan 100 kr (
 år2014) \n\nAvgift för skytteutbildning \nPrel 750 kr för 10 lektioner 
 med skytteinstruktör \n\nProvavgifter för \nTeoretiskt prov \nSamt \nGru
 ndprov Hagel och kulvapen \nSamt högvilt klass 1 vapen \nKostnad för öv
 ningsammunition\n\nFör att komma till studiefrämjandets sida klicka HÄR
  Studieförbundet vuxenskolans sida\n\nJägarskola- Nässjö\nPlats\nFredr
 iksdal skjutbana\nLedare\nKjell Mohlin\nTid\nMåndag\, Söndag\n18:00 - 21
 :00\nStart\n2015-11-01\nOmfattning\n20 gånger totalt 18 studietimmar1
ATTACH;FMTTYPE=image/jpeg:https://krets.jagareforbundet.se/nassjo/files/20
 14/05/bild1-e1505504701108.jpg
LOCATION:Nässjö jaktskyttecenter\, Ekesjö\, Fredriksdal\, 57175\, Sverig
 e
GEO:57.60012198033702;14.5746858367188
X-APPLE-STRUCTURED-LOCATION;VALUE=URI;X-ADDRESS=Ekesjö\, Fredriksdal\, 571
 75\, Sverige;X-APPLE-RADIUS=100;X-TITLE=Nässjö jaktskyttecenter:geo:57.6
 0012198033702,14.5746858367188
END:VEVENT
BEGIN:VTIMEZONE
TZID:Europe/Stockholm
X-LIC-LOCATION:Europe/Stockholm
BEGIN:DAYLIGHT
DTSTART:20150329T030000
TZOFFSETFROM:+0100
TZOFFSETTO:+0200
TZNAME:CEST
END:DAYLIGHT
END:VTIMEZONE
END:VCALENDAR