BEGIN:VCALENDAR
VERSION:2.0
PRODID:-//wp-events-plugin.com//7.2.3.1//EN
TZID:Europe/Stockholm
X-WR-TIMEZONE:Europe/Stockholm
BEGIN:VEVENT
UID:87-41@krets.jagareforbundet.se
DTSTART;TZID=Europe/Stockholm:20161219T180000
DTEND;TZID=Europe/Stockholm:20161219T210000
DTSTAMP:20161111T152416Z
URL:https://krets.jagareforbundet.se/nassjo/events/stora-rovdjur-statens-v
 ilt-spartecken-av-lo-och-varg/
SUMMARY:Stora rovdjur\, statens vilt. Spårtecken av lo och varg.
DESCRIPTION:Stora rovdjur\, statens vilt. Spårtecken av lo och varg.\n\nPl
 ats: Skedhult\n\nden 19/12 kl 18.00\n\nFöreläsare Anders Gunnarsson.
ATTACH;FMTTYPE=image/jpeg:https://krets.jagareforbundet.se/nassjo/files/20
 16/11/varg_ligg_fram_700.jpg
LOCATION:Skedhult\, Skedhults säteri\, Eksjö\, Jönköpings\, 57596\, Sve
 rige
GEO:57.6651652;14.973221400000057
X-APPLE-STRUCTURED-LOCATION;VALUE=URI;X-ADDRESS=Skedhults säteri\, Eksjö\
 , Jönköpings\, 57596\, Sverige;X-APPLE-RADIUS=100;X-TITLE=Skedhult:geo:5
 7.6651652,14.973221400000057
END:VEVENT
BEGIN:VTIMEZONE
TZID:Europe/Stockholm
X-LIC-LOCATION:Europe/Stockholm
BEGIN:STANDARD
DTSTART:20161030T020000
TZOFFSETFROM:+0200
TZOFFSETTO:+0100
TZNAME:CET
END:STANDARD
END:VTIMEZONE
END:VCALENDAR