BEGIN:VCALENDAR
VERSION:2.0
PRODID:-//wp-events-plugin.com//7.2.3.1//EN
TZID:Europe/Stockholm
X-WR-TIMEZONE:Europe/Stockholm
BEGIN:VEVENT
UID:87-3@krets.jagareforbundet.se
DTSTART;TZID=Europe/Stockholm:20140312T183000
DTEND;TZID=Europe/Stockholm:20140312T200000
DTSTAMP:20140303T094742Z
URL:https://krets.jagareforbundet.se/nassjo/events/temakvall-faglar-i-skog
 -mark/
SUMMARY:Temakväll Fåglar i skog &amp\; mark
DESCRIPTION:Fåglar i skog &amp\; mark\n\nNaturfotografen Lars Petersson vi
 sar och berättar om fåglar du säkert sett…..\n\nmen vad var det?\n\nJ
 aktskyttecenter\n\n12 mars kl 18:30- ca 20:00
LOCATION:Nässjö jaktskyttecenter\, Ekesjö\, Fredriksdal\, 57175\, Sverig
 e
GEO:57.60012198033702;14.5746858367188
X-APPLE-STRUCTURED-LOCATION;VALUE=URI;X-ADDRESS=Ekesjö\, Fredriksdal\, 571
 75\, Sverige;X-APPLE-RADIUS=100;X-TITLE=Nässjö jaktskyttecenter:geo:57.6
 0012198033702,14.5746858367188
END:VEVENT
BEGIN:VTIMEZONE
TZID:Europe/Stockholm
X-LIC-LOCATION:Europe/Stockholm
BEGIN:STANDARD
DTSTART:20131027T020000
TZOFFSETFROM:+0200
TZOFFSETTO:+0100
TZNAME:CET
END:STANDARD
END:VTIMEZONE
END:VCALENDAR