BEGIN:VCALENDAR
VERSION:2.0
PRODID:-//wp-events-plugin.com//7.2.3.1//EN
TZID:Europe/Stockholm
X-WR-TIMEZONE:Europe/Stockholm
BEGIN:VEVENT
UID:0-69@krets.jagareforbundet.se
DTSTART;TZID=Europe/Stockholm:20240902T180000
DTEND;TZID=Europe/Stockholm:20240902T200000
DTSTAMP:20240620T105816Z
URL:https://krets.jagareforbundet.se/nassjo/events/undomsverksamhet-och-el
 ler-ny-jagare-2/
SUMMARY:Undomsverksamhet och/eller ny jägare
DESCRIPTION:Idag går vi en jaktstig tillsammans.\n\nEtt roligt och uppskat
 tat träningsskytte med hagel\, där man skjuter på olika metallmål som 
 kommer med varierad hastighet\, från olika håll.\n\nVarmt välkommen til
 l Nässjö Jaktsskyttecenter!
LOCATION:Nässjö jaktskyttecenter\, Ekesjö\, Fredriksdal\, 57175\, Sverig
 e
GEO:57.60012198033702;14.5746858367188
X-APPLE-STRUCTURED-LOCATION;VALUE=URI;X-ADDRESS=Ekesjö\, Fredriksdal\, 571
 75\, Sverige;X-APPLE-RADIUS=100;X-TITLE=Nässjö jaktskyttecenter:geo:57.6
 0012198033702,14.5746858367188
END:VEVENT
BEGIN:VTIMEZONE
TZID:Europe/Stockholm
X-LIC-LOCATION:Europe/Stockholm
BEGIN:DAYLIGHT
DTSTART:20240331T030000
TZOFFSETFROM:+0100
TZOFFSETTO:+0200
TZNAME:CEST
END:DAYLIGHT
END:VTIMEZONE
END:VCALENDAR