BEGIN:VCALENDAR
VERSION:2.0
PRODID:-//wp-events-plugin.com//7.2.3.1//EN
TZID:Europe/Stockholm
X-WR-TIMEZONE:Europe/Stockholm
BEGIN:VEVENT
UID:87-20@krets.jagareforbundet.se
DTSTART;TZID=Europe/Stockholm:20150627T080000
DTEND;TZID=Europe/Stockholm:20150627T120000
DTSTAMP:20150616T075728Z
URL:https://krets.jagareforbundet.se/nassjo/events/ungdomsskyttedag-pa-nas
 sjo-jaktskyttecenter/
SUMMARY:Ungdomsskyttedag på Nässjö jaktskyttecenter
DESCRIPTION:Välkommen till en ungdomsskyttedag på Nässjö jaktskyttecent
 er\n\nKlicka här för att se Inbjudan vindbonus skytte dag den 150627 s
 om pdf:\n\nNässjö jaktskyttecenter inbjuder här med länets ungdomar up
 p till 20 år på en skyttedag den 27/6. Vindbonus är en satsning på ung
 domsidrotten som sponsras av Stena Renewable Energy AB.\n\nProgram\n\n08.
 00 samling\n\nSkytte övningar\n\n12.00 beräknad hemfärd\n\nDet kommer a
 tt serveras både fika och lunch i form av en hamburgare under dagen.\n\n&
 nbsp\;\n\n&nbsp\;\n\nKontakt person\n\nGreger Ericsson\n\nSjöafall Lyckeb
 o\n\n571 75Fredriksdal\n\ngreger.ericsson@hotmail.se\n\n070-369 92 69\n\n0
 380-260 59
ATTACH;FMTTYPE=image/jpeg:https://krets.jagareforbundet.se/nassjo/files/20
 15/06/1bild.jpg
LOCATION:Nässjö jaktskyttecenter\, Ekesjö\, Fredriksdal\, 57175\, Sverig
 e
GEO:57.60012198033702;14.5746858367188
X-APPLE-STRUCTURED-LOCATION;VALUE=URI;X-ADDRESS=Ekesjö\, Fredriksdal\, 571
 75\, Sverige;X-APPLE-RADIUS=100;X-TITLE=Nässjö jaktskyttecenter:geo:57.6
 0012198033702,14.5746858367188
END:VEVENT
BEGIN:VTIMEZONE
TZID:Europe/Stockholm
X-LIC-LOCATION:Europe/Stockholm
BEGIN:DAYLIGHT
DTSTART:20150329T030000
TZOFFSETFROM:+0100
TZOFFSETTO:+0200
TZNAME:CEST
END:DAYLIGHT
END:VTIMEZONE
END:VCALENDAR