BEGIN:VCALENDAR
VERSION:2.0
PRODID:-//wp-events-plugin.com//7.2.3.1//EN
TZID:Europe/Stockholm
X-WR-TIMEZONE:Europe/Stockholm
BEGIN:VEVENT
UID:0-67@krets.jagareforbundet.se
DTSTART;TZID=Europe/Stockholm:20240812T180000
DTEND;TZID=Europe/Stockholm:20240812T200000
DTSTAMP:20240620T105118Z
URL:https://krets.jagareforbundet.se/nassjo/events/ungdomsverksamhet-och-e
 ller-ny-jagare/
SUMMARY:Ungdomsverksamhet och/eller ny jägare
DESCRIPTION:Fokus kula.\n\nVi skjuter tillsammans och går igenom vad du be
 höver tänka på inför bockpremiären.\n\nBehöver du tips på hur du sk
 juter in din nya bössa?\n\nVarmt välkommen till Nässjö jaktskyttecente
 r!
LOCATION:Nässjö jaktskyttecenter\, Ekesjö\, Fredriksdal\, 57175\, Sverig
 e
GEO:57.60012198033702;14.5746858367188
X-APPLE-STRUCTURED-LOCATION;VALUE=URI;X-ADDRESS=Ekesjö\, Fredriksdal\, 571
 75\, Sverige;X-APPLE-RADIUS=100;X-TITLE=Nässjö jaktskyttecenter:geo:57.6
 0012198033702,14.5746858367188
END:VEVENT
BEGIN:VTIMEZONE
TZID:Europe/Stockholm
X-LIC-LOCATION:Europe/Stockholm
BEGIN:DAYLIGHT
DTSTART:20240331T030000
TZOFFSETFROM:+0100
TZOFFSETTO:+0200
TZNAME:CEST
END:DAYLIGHT
END:VTIMEZONE
END:VCALENDAR