BEGIN:VCALENDAR
VERSION:2.0
PRODID:-//wp-events-plugin.com//7.2.3.1//EN
TZID:Europe/Stockholm
X-WR-TIMEZONE:Europe/Stockholm
BEGIN:VEVENT
UID:87-19@krets.jagareforbundet.se
DTSTART;TZID=Europe/Stockholm:20150503T100000
DTEND;TZID=Europe/Stockholm:20150503T150000
DTSTAMP:20150427T141653Z
URL:https://krets.jagareforbundet.se/nassjo/events/valkommen-som-publik-ti
 ll-kretsmasterskapet-i-eftersok/
SUMMARY:Välkommen som publik till kretsmästerskapet i eftersök
DESCRIPTION:Välkommen som publik till Kretsmästerskap i eftersök.\n\nUnd
 er lördagen tävlar ekipagen hos respektive dommare och det kan där med 
 vara svårt att anordna med publik. Men under söndagen är tävlingen sta
 tionerad på Nässjö jaktskyttecenter och där går det bra att komma och
  titta.\n\nVarmt välkomna.\n\nBild\nhttp://www.skanesdreverklubb.se/
ATTACH;FMTTYPE=image/jpeg:https://krets.jagareforbundet.se/nassjo/files/20
 15/04/lydnadskurs_8_20130625_1599609318.jpg
LOCATION:Nässjö jaktskyttecenter\, Ekesjö\, Fredriksdal\, 57175\, Sverig
 e
GEO:57.60012198033702;14.5746858367188
X-APPLE-STRUCTURED-LOCATION;VALUE=URI;X-ADDRESS=Ekesjö\, Fredriksdal\, 571
 75\, Sverige;X-APPLE-RADIUS=100;X-TITLE=Nässjö jaktskyttecenter:geo:57.6
 0012198033702,14.5746858367188
END:VEVENT
BEGIN:VTIMEZONE
TZID:Europe/Stockholm
X-LIC-LOCATION:Europe/Stockholm
BEGIN:DAYLIGHT
DTSTART:20150329T030000
TZOFFSETFROM:+0100
TZOFFSETTO:+0200
TZNAME:CEST
END:DAYLIGHT
END:VTIMEZONE
END:VCALENDAR