BEGIN:VCALENDAR
VERSION:2.0
PRODID:-//wp-events-plugin.com//7.2.3.1//EN
TZID:Europe/Stockholm
X-WR-TIMEZONE:Europe/Stockholm
BEGIN:VEVENT
UID:87-1@krets.jagareforbundet.se
DTSTART;TZID=Europe/Stockholm:20140227T183000
DTEND;TZID=Europe/Stockholm:20140227T220000
DTSTAMP:20140127T174636Z
URL:https://krets.jagareforbundet.se/nassjo/events/valkommen-till-arsmote/
SUMMARY:Välkommen till årsmöte
DESCRIPTION:&nbsp\;\n\nTorsdagen den 27 februari (2014-02-27)  kl 18.30 \n
 \nNässjö jaktskyttecenter.\n\nInleds med en föredrag av Peter Djärv F
 yra lätta steg\, grunderna i hunddresyr.\n\n&nbsp\;
LOCATION:Nässjö jaktskyttecenter\, Ekesjö\, Fredriksdal\, 57175\, Sverig
 e
GEO:57.60012198033702;14.5746858367188
X-APPLE-STRUCTURED-LOCATION;VALUE=URI;X-ADDRESS=Ekesjö\, Fredriksdal\, 571
 75\, Sverige;X-APPLE-RADIUS=100;X-TITLE=Nässjö jaktskyttecenter:geo:57.6
 0012198033702,14.5746858367188
END:VEVENT
BEGIN:VTIMEZONE
TZID:Europe/Stockholm
X-LIC-LOCATION:Europe/Stockholm
BEGIN:STANDARD
DTSTART:20131027T020000
TZOFFSETFROM:+0200
TZOFFSETTO:+0100
TZNAME:CET
END:STANDARD
END:VTIMEZONE
END:VCALENDAR