BEGIN:VCALENDAR
VERSION:2.0
PRODID:-//wp-events-plugin.com//7.2.3.1//EN
TZID:Europe/Stockholm
X-WR-TIMEZONE:Europe/Stockholm
BEGIN:VEVENT
UID:0-62@krets.jagareforbundet.se
DTSTART;TZID=Europe/Stockholm:20240424T190000
DTEND;TZID=Europe/Stockholm:20240424T210000
DTSTAMP:20240421T185224Z
URL:https://krets.jagareforbundet.se/nassjo/events/valkomna-att-komma-och-
 lyssna-pa-hans-andersson-var-nya-jaktkonsulent/
SUMMARY:Välkomna att komma och lyssna på Hans Andersson\, vår nya jaktko
 nsulent.
DESCRIPTION:Han kommer att presentera sig och bland annat prata om vad jäg
 areförbundet arbetar med för tillfället\, älg och rovdjur.\nVi se den 
 24 april kl 19.00 på Nässjö jaktskytte center.\nVi bjuder på kaffe och
  fralla.\n\nVi hälsar alla varmt välkomna\n\nOrdförande\nMargareta Bunn
 fors
ATTACH;FMTTYPE=image/jpeg:https://krets.jagareforbundet.se/nassjo/files/20
 24/04/Varg-3-Fotograf-Mostphotos.jpg
LOCATION:Nässjö jaktskyttecenter\, Ekesjö\, Fredriksdal\, 57175\, Sverig
 e
GEO:57.60012198033702;14.5746858367188
X-APPLE-STRUCTURED-LOCATION;VALUE=URI;X-ADDRESS=Ekesjö\, Fredriksdal\, 571
 75\, Sverige;X-APPLE-RADIUS=100;X-TITLE=Nässjö jaktskyttecenter:geo:57.6
 0012198033702,14.5746858367188
END:VEVENT
BEGIN:VTIMEZONE
TZID:Europe/Stockholm
X-LIC-LOCATION:Europe/Stockholm
BEGIN:DAYLIGHT
DTSTART:20240331T030000
TZOFFSETFROM:+0100
TZOFFSETTO:+0200
TZNAME:CEST
END:DAYLIGHT
END:VTIMEZONE
END:VCALENDAR